BEGIN:VCALENDAR
VERSION:2.0
PRODID:-//Helena Chalverus - ECPv6.15.14//NONSGML v1.0//EN
CALSCALE:GREGORIAN
METHOD:PUBLISH
X-WR-CALNAME:Helena Chalverus
X-ORIGINAL-URL:https://www.helenachalverus.com
X-WR-CALDESC:Eventos para Helena Chalverus
REFRESH-INTERVAL;VALUE=DURATION:PT1H
X-Robots-Tag:noindex
X-PUBLISHED-TTL:PT1H
BEGIN:VTIMEZONE
TZID:UTC
BEGIN:STANDARD
TZOFFSETFROM:+0000
TZOFFSETTO:+0000
TZNAME:UTC
DTSTART:20240101T000000
END:STANDARD
END:VTIMEZONE
BEGIN:VEVENT
DTSTART;TZID=UTC:20250620T080000
DTEND;TZID=UTC:20251207T170000
DTSTAMP:20260425T235650
CREATED:20240903T194149Z
LAST-MODIFIED:20250430T153814Z
UID:18715-1750406400-1765126800@www.helenachalverus.com
SUMMARY:Retiros Estacionales 2025
DESCRIPTION:Cursos de 2025 \nRetiros Estacionales Cadíz se celebran en el Espacio Kuatro\, en plena naturaleza\, cerca de las playas y bosques mas naturales de Cadiz.  Ofrecen una oportunidad para limpiar y fortelecer los organos y emociones de cada temporada de acuerdo a la medicina china. Preparandote con herramientas\, descanso y actividades como Kundalini Yoga\, Chi-Kung\, Masaje Shiatsu en Pareja\, Ecstatic Dance\, Temascal\, Kirtan\, Circulos de Compartir y una Dieta Consciente.  Junto con el apoyo del grupo\, un entorno libre de tecnología y comida de la huerta\, cada practica nos aporta al cuerpo y estado emocional una preparación para la estación que llega. \nPrimavera 21-23 de Marzo: Hígado\, Vesícula Biliar y Rabia \nVerano 20-24 de Junio: Corazon\, Intestino Delgado y Alegría \nVerano Tardio 26-29 de Septiembre: Estomago\, Bazo/Pancreas y Preocupacion \nOtoño 31 de Octubre – 2 de Noviembre: Pulmones\, Intestino Grueso y Tristeza \nInvierno 5-8 de Diciembre: Riñones\, Vejiga y Miedo \nTaller + alojamiento + pensión completo en nuestro albergue. \n 
URL:https://www.helenachalverus.com/event/retiros-estacionales-2024-25/
CATEGORIES:chi-kung,danza,kundalini yoga,Massage,meditation,naturaleza,parque natural,playa,retreats,ritual,sauna,temascal
ATTACH;FMTTYPE=image/jpeg:https://www.helenachalverus.com/wp-content/uploads/2024/09/logo-5-seasons.jpg
END:VEVENT
END:VCALENDAR